BEGIN:VCALENDAR
VERSION:2.0
PRODID:-//Sir Robert Pattinson Academy - ECPv6.8.2.1//NONSGML v1.0//EN
CALSCALE:GREGORIAN
METHOD:PUBLISH
X-WR-CALNAME:Sir Robert Pattinson Academy
X-ORIGINAL-URL:https://srpa.co.uk
X-WR-CALDESC:Events for Sir Robert Pattinson Academy
REFRESH-INTERVAL;VALUE=DURATION:PT1H
X-Robots-Tag:noindex
X-PUBLISHED-TTL:PT1H
BEGIN:VTIMEZONE
TZID:UTC
BEGIN:STANDARD
TZOFFSETFROM:+0000
TZOFFSETTO:+0000
TZNAME:UTC
DTSTART:20260101T000000
END:STANDARD
END:VTIMEZONE
BEGIN:VEVENT
DTSTART;VALUE=DATE:20260318
DTEND;VALUE=DATE:20260319
DTSTAMP:20260425T235247
CREATED:20251024T140758Z
LAST-MODIFIED:20251024T140758Z
UID:63366-1773792000-1773878399@srpa.co.uk
SUMMARY:Personal Development Day
DESCRIPTION:
URL:https://srpa.co.uk/event/personal-development-day-3/
END:VEVENT
END:VCALENDAR